BEGIN:VCALENDAR
VERSION:2.0
PRODID:-//ChamberMaster//Event Calendar 2.0//EN
METHOD:PUBLISH
X-PUBLISHED-TTL:P1H
REFRESH-INTERVAL:P1H
CALSCALE:GREGORIAN
BEGIN:VTIMEZONE
TZID:America/Chicago
BEGIN:DAYLIGHT
RRULE:FREQ=YEARLY;BYMONTH=3;BYDAY=2SU
DTSTART:20070101T000000
TZOFFSETFROM:-0600
TZOFFSETTO:-0500
TZNAME:Central Daylight Time
END:DAYLIGHT
BEGIN:STANDARD
RRULE:FREQ=YEARLY;BYMONTH=11;BYDAY=1SU
DTSTART:20070101T000000
TZOFFSETFROM:-0500
TZOFFSETTO:-0600
TZNAME:Central Standard Time
END:STANDARD
END:VTIMEZONE
BEGIN:VEVENT
DTSTART;TZID=America/Chicago:20260417T100000
DTEND;TZID=America/Chicago:20260417T200000
X-MICROSOFT-CDO-ALLDAYEVENT:FALSE
SUMMARY:Activate Naperville One Year Anniversary
DESCRIPTION:Join us to celebrate our one year anniversary in Naperville with half-off gameplay all day*\, a live DJ\, and giveaways. Secure your spot in advance at playactivate.com/naperville. The first 50 people in line at the event will receive a premium wristband for free play.\n*Email registration required for half-off gameplay.
X-ALT-DESC;FMTTYPE=text/html:<!DOCTYPE html><html><head><title></title></head><body aria-disabled="false"><p>Join us to celebrate our one year anniversary in Naperville with half-off gameplay all day*\, a live DJ\, and giveaways. Secure your spot in advance at <a data-fr-linked="true" fr-original-style="" href="https://playactivate.com/naperville" style="user-select: auto\;">playactivate.com/naperville</a>. The first 50 people in line at the event will receive a premium wristband for free play.</p><p><br></p><p>*Email registration required for half-off gameplay.</p></body></html>
LOCATION:804 Illinois Route 59 Naperville IL 60540
UID:e.1532.1425129
SEQUENCE:3
DTSTAMP:20260420T205235Z
URL:https://napervilleareachamberofcommerce.growthzoneapp.com/businessafterhourseventcalendar/Details/activate-naperville-one-year-anniversary-1685178?sourceTypeId=Hub
END:VEVENT
END:VCALENDAR
