BEGIN:VCALENDAR
VERSION:2.0
PRODID:-//ChamberMaster//Event Calendar 2.0//EN
METHOD:PUBLISH
X-PUBLISHED-TTL:P1H
REFRESH-INTERVAL:P1H
CALSCALE:GREGORIAN
BEGIN:VTIMEZONE
TZID:America/Chicago
BEGIN:DAYLIGHT
RRULE:FREQ=YEARLY;BYMONTH=3;BYDAY=2SU
DTSTART:20070101T000000
TZOFFSETFROM:-0600
TZOFFSETTO:-0500
TZNAME:Central Daylight Time
END:DAYLIGHT
BEGIN:STANDARD
RRULE:FREQ=YEARLY;BYMONTH=11;BYDAY=1SU
DTSTART:20070101T000000
TZOFFSETFROM:-0500
TZOFFSETTO:-0600
TZNAME:Central Standard Time
END:STANDARD
END:VTIMEZONE
BEGIN:VEVENT
DTSTART;TZID=America/Chicago:20261103T090000
DTEND;TZID=America/Chicago:20261103T110000
X-MICROSOFT-CDO-ALLDAYEVENT:FALSE
SUMMARY:Industry Council | Healthcare
DESCRIPTION:Are you ready to elevate your network and discover new opportunities within the healthcare industry?The NACC Industry Series is a premier networking experience that brings together professionals from a specific sector to foster collaboration\, spark innovation\, and drive professional growth. Each month\, we spotlight a different industry offering attendees a targeted\, high-value opportunity to connect and thrive.Why Attend?\nStrategic Networking\nEngage with fellow healthcare professionals\, including physicians\, nurses\, practice managers\, administrators\, healthcare consultants\, wellness providers\, and clinical leaders.Professional Growth Opportunities\nMake meaningful connections that lead to partnerships\, referrals\, collaborations\, and new opportunities for your practice or career.Industry-Relevant Insights\nStay informed on emerging trends\, healthcare innovations\, policy updates\, and best practices shaping the future of patient care and medical services.Exclusive Access\nThis event is tailored specifically for those working in the healthcare space\, ensuring a focused\, relevant\, and valuable experience.\n\nWho Should Attend?Professionals across the healthcare ecosystem   including providers\, clinic and hospital administrators\, mental health professionals\, allied health workers\, wellness practitioners\, and those involved in healthcare technology\, policy\, or support services.Don't miss this unique opportunity to connect\, collaborate\, and grow alongside your peers in the healthcare community. We can't wait to see you there!Please Note:\nAttendance is exclusive to professionals working within the healthcare industry. Registrations from outside the industry will be refunded to the original payment method.By registering and attending this event\, you grant the Naperville Area Chamber of Commerce (NACC) the right to use your image and likeness in photographs\, videos\, and any other media captured during the event. You understand and agree that these materials may be used for promotional purposes\, including but not limited to\, social media\, websites\, and other marketing materials produced by or for the NACC.
X-ALT-DESC;FMTTYPE=text/html:<!DOCTYPE html><html><head><title></title></head><body aria-disabled="false"><p data-end="216" data-start="112">Are you ready to elevate your network and discover new opportunities within the healthcare industry?</p><p data-end="653" data-start="337">The NACC Industry Series is a premier networking experience that brings together professionals from a specific sector to foster collaboration\, spark innovation\, and drive professional growth. Each month\, we spotlight a different industry offering attendees a targeted\, high-value opportunity to connect and thrive.</p><hr data-start="719" data-end="722" fr-original-style="" style="clear: both\; user-select: none\; break-after: page\;"><p data-end="950" data-start="745"><strong data-end="772" data-start="745" fr-original-style="" style="font-weight: 700\;">Why Attend?</strong><br><strong data-end="772" data-start="745" fr-original-style="" style="font-weight: 700\;">Strategic Networking</strong><br data-start="772" data-end="775">Engage with fellow healthcare professionals\, including physicians\, nurses\, practice managers\, administrators\, healthcare consultants\, wellness providers\, and clinical leaders.</p><p data-end="1127" data-start="952"><strong data-end="992" data-start="952" fr-original-style="" style="font-weight: 700\;">Professional Growth Opportunities</strong><br data-start="992" data-end="995">Make meaningful connections that lead to partnerships\, referrals\, collaborations\, and new opportunities for your practice or career.</p><p data-end="1314" data-start="1129"><strong data-end="1162" data-start="1129" fr-original-style="" style="font-weight: 700\;">Industry-Relevant Insights</strong><br data-start="1162" data-end="1165">Stay informed on emerging trends\, healthcare innovations\, policy updates\, and best practices shaping the future of patient care and medical services.</p><p data-end="1475" data-start="1316"><strong data-end="1339" data-start="1316" fr-original-style="" style="font-weight: 700\;">Exclusive Access</strong><br data-start="1339" data-end="1342">This event is tailored specifically for those working in the healthcare space\, ensuring a focused\, relevant\, and valuable experience.<br><br><strong fr-original-style="" style="font-weight: 700\;">Who Should Attend?</strong></p><p data-end="1765" data-start="1511">Professionals across the healthcare ecosystem &ndash\; including providers\, clinic and hospital administrators\, mental health professionals\, allied health workers\, wellness practitioners\, and those involved in healthcare technology\, policy\, or support services.</p><hr data-start="1767" data-end="1770" fr-original-style="" style="clear: both\; user-select: none\; break-after: page\;"><p data-end="1926" data-start="1772">Don&rsquo\;t miss this unique opportunity to connect\, collaborate\, and grow alongside your peers in the healthcare community. We can&rsquo\;t wait to see you there!</p><p data-end="1926" data-start="1772"><strong data-end="1946" data-start="1930" fr-original-style="" style="font-weight: 700\;"><span style="color: rgb(184\, 49\, 47)\;">Please Note:</span></strong><span style="color: rgb(184\, 49\, 47)\;"><br data-start="1946" data-end="1949">Attendance is exclusive to professionals working within the healthcare industry. Registrations from outside the industry will be refunded to the original payment method.</span></p><hr fr-original-style="" style="clear: both\; user-select: none\; break-after: page\;"><p><span style="font-size: 10px\;">By registering and attending this event\, you grant the Naperville Area Chamber of Commerce (NACC) the right to use your image and likeness in photographs\, videos\, and any other media captured during the event. You understand and agree that these materials may be used for promotional purposes\, including but not limited to\, social media\, websites\, and other marketing materials produced by or for the NACC.&nbsp\;</span></p></body></html>
LOCATION:55 S. Main Street Suite 375 Naperville IL 60540
UID:e.1532.1427667
SEQUENCE:3
DTSTAMP:20260420T205721Z
URL:https://napervilleareachamberofcommerce.growthzoneapp.com/businessafterhourseventcalendar/Details/industry-council-healthcare-1688763?sourceTypeId=Hub
END:VEVENT
END:VCALENDAR
