BEGIN:VCALENDAR
VERSION:2.0
PRODID:-//ChamberMaster//Event Calendar 2.0//EN
METHOD:PUBLISH
X-PUBLISHED-TTL:P1H
REFRESH-INTERVAL:P1H
CALSCALE:GREGORIAN
BEGIN:VTIMEZONE
TZID:America/Chicago
BEGIN:DAYLIGHT
RRULE:FREQ=YEARLY;BYMONTH=3;BYDAY=2SU
DTSTART:20070101T000000
TZOFFSETFROM:-0600
TZOFFSETTO:-0500
TZNAME:Central Daylight Time
END:DAYLIGHT
BEGIN:STANDARD
RRULE:FREQ=YEARLY;BYMONTH=11;BYDAY=1SU
DTSTART:20070101T000000
TZOFFSETFROM:-0500
TZOFFSETTO:-0600
TZNAME:Central Standard Time
END:STANDARD
END:VTIMEZONE
BEGIN:VEVENT
DTSTART;TZID=America/Chicago:20260804T090000
DTEND;TZID=America/Chicago:20260804T110000
X-MICROSOFT-CDO-ALLDAYEVENT:FALSE
SUMMARY:Industry Council | High School Advisory
DESCRIPTION:Are you ready to start exploring your future and building connections as a high school student?The NACC Industry Series\, hosted by the Naperville Area Chamber of Commerce\, is a premier networking experience that brings together Members and professionals from specific industries to foster collaboration\, spark innovation\, and support career exploration and professional growth. Each month\, we spotlight a different industry\, giving high school students a focused\, high-value opportunity to connect with professionals\, learn about potential career paths\, and gain real-world insight into different fields.Why Attend?Strategic Networking\nConnect with fellow high school students who are interested in learning about careers\, exploring opportunities\, and building relationships that can support your academic and professional journey.Career Exploration Opportunities\nEngage with professionals from a variety of industries to learn about different roles\, day-to-day responsibilities\, and the education or skills needed to succeed.Real-World Insights\nGain a better understanding of current trends\, workplace expectations\, and the pathways that can help you achieve your goals after high school.Supportive\, Student-Focused Environment\nThis event is designed to help you feel comfortable asking questions\, learning from others\, and taking the first steps toward your future in a welcoming and professional setting.Who Should Attend?\nHigh school students who are curious about different career paths\, interested in exploring industries\, and eager to build connections that can help guide their future education and career decisions.Don't miss this opportunity to connect with peers\, learn from professionals\, and take meaningful steps toward your future. We look forward to seeing you there.Please Note:\nAttendance is exclusive to high school students. Registrations from outside the industry will be refunded to the original payment method.By registering and attending this event\, you grant the Naperville Area Chamber of Commerce (NACC) the right to use your image and likeness in photographs\, videos\, and any other media captured during the event. You understand and agree that these materials may be used for promotional purposes\, including but not limited to\, social media\, websites\, and other marketing materials produced by or for the NACC.
X-ALT-DESC;FMTTYPE=text/html:<!DOCTYPE html><html><head><title></title></head><body aria-disabled="false"><p><meta charset="utf-8"></p><p data-end="95" data-start="0">Are you ready to start exploring your future and building connections as a high school student?</p><p data-end="608" data-start="97">The NACC Industry Series\, hosted by the Naperville Area Chamber of Commerce\, is a premier networking experience that brings together Members and professionals from specific industries to foster collaboration\, spark innovation\, and support career exploration and professional growth. Each month\, we spotlight a different industry\, giving high school students a focused\, high-value opportunity to connect with professionals\, learn about potential career paths\, and gain real-world insight into different fields.</p><hr fr-original-style="" style="clear: both\; user-select: none\; break-after: page\;"><p data-end="621" data-start="610"><strong fr-original-style="" style="font-weight: 700\;">Why Attend?</strong></p><p data-end="845" data-start="623"><strong data-end="647" data-start="623" fr-original-style="" style="font-weight: 700\;">Strategic Networking</strong><br data-start="647" data-end="650">Connect with fellow high school students who are interested in learning about careers\, exploring opportunities\, and building relationships that can support your academic and professional journey.</p><p data-end="1048" data-start="847"><strong data-end="883" data-start="847" fr-original-style="" style="font-weight: 700\;">Career Exploration Opportunities</strong><br data-start="883" data-end="886">Engage with professionals from a variety of industries to learn about different roles\, day-to-day responsibilities\, and the education or skills needed to succeed.</p><p data-end="1219" data-start="1050"><strong data-end="1073" data-start="1050" fr-original-style="" style="font-weight: 700\;">Real-World Insights</strong><br data-start="1073" data-end="1076">Gain a better understanding of current trends\, workplace expectations\, and the pathways that can help you achieve your goals after high school.</p><p data-end="1445" data-start="1221"><strong data-end="1264" data-start="1221" fr-original-style="" style="font-weight: 700\;">Supportive\, Student-Focused Environment</strong><br data-start="1264" data-end="1267">This event is designed to help you feel comfortable asking questions\, learning from others\, and taking the first steps toward your future in a welcoming and professional setting.</p><p data-end="1666" data-start="1447"><strong fr-original-style="" style="font-weight: 700\;">Who Should Attend?<br data-start="1465" data-end="1468"></strong>High school students who are curious about different career paths\, interested in exploring industries\, and eager to build connections that can help guide their future education and career decisions.</p><hr fr-original-style="" style="clear: both\; user-select: none\; break-after: page\;"><p data-end="1827" data-start="1668">Don&rsquo\;t miss this opportunity to connect with peers\, learn from professionals\, and take meaningful steps toward your future. We look forward to seeing you there.</p><p data-end="1926" data-start="1772"><strong data-end="1946" data-start="1930" fr-original-style="" style="font-weight: 700\;"><span style="color: rgb(184\, 49\, 47)\;">Please Note:</span></strong><span style="color: rgb(184\, 49\, 47)\;"><br data-start="1946" data-end="1949">Attendance is exclusive to high school students. Registrations from outside the industry will be refunded to the original payment method.</span></p><hr fr-original-style="" style="clear: both\; user-select: none\; break-after: page\;"><p><span style="font-size: 10px\;">By registering and attending this event\, you grant the Naperville Area Chamber of Commerce (NACC) the right to use your image and likeness in photographs\, videos\, and any other media captured during the event. You understand and agree that these materials may be used for promotional purposes\, including but not limited to\, social media\, websites\, and other marketing materials produced by or for the NACC.&nbsp\;</span></p></body></html>
LOCATION:55 S. Main Street Suite 375 Naperville IL 60540
UID:e.1532.1427659
SEQUENCE:3
DTSTAMP:20260420T205544Z
URL:https://napervilleareachamberofcommerce.growthzoneapp.com/businessafterhourseventcalendar/Details/industry-council-high-school-advisory-1688721?sourceTypeId=Hub
END:VEVENT
END:VCALENDAR
