BEGIN:VCALENDAR
VERSION:2.0
PRODID:-//ChamberMaster//Event Calendar 2.0//EN
METHOD:PUBLISH
X-PUBLISHED-TTL:P1H
REFRESH-INTERVAL:P1H
CALSCALE:GREGORIAN
BEGIN:VTIMEZONE
TZID:America/Chicago
BEGIN:DAYLIGHT
RRULE:FREQ=YEARLY;BYMONTH=3;BYDAY=2SU
DTSTART:20070101T000000
TZOFFSETFROM:-0600
TZOFFSETTO:-0500
TZNAME:Central Daylight Time
END:DAYLIGHT
BEGIN:STANDARD
RRULE:FREQ=YEARLY;BYMONTH=11;BYDAY=1SU
DTSTART:20070101T000000
TZOFFSETFROM:-0500
TZOFFSETTO:-0600
TZNAME:Central Standard Time
END:STANDARD
END:VTIMEZONE
BEGIN:VEVENT
DTSTART;TZID=America/Chicago:20260901T090000
DTEND;TZID=America/Chicago:20260901T110000
X-MICROSOFT-CDO-ALLDAYEVENT:FALSE
SUMMARY:Industry Council | Home Improvement
DESCRIPTION:Are you ready to elevate your network and discover new opportunities within the home improvement industry?The NACC Industry Series\, hosted by the Naperville Area Chamber of Commerce\, is a premier networking experience that brings together Members from specific industries to foster collaboration\, spark innovation\, and drive business growth. Each month\, we spotlight a different industry\, offering home improvement professionals a targeted\, high-value opportunity to connect with peers who understand the demands and opportunities within the field.Why Attend?Strategic Networking\nConnect with fellow home improvement professionals\, including contractors\, remodelers\, builders\, designers\, suppliers\, and service providers who are focused on delivering quality work and growing their businesses.Business Growth Opportunities\nBuild relationships that can lead to referrals\, partnerships\, subcontracting opportunities\, and new clients for your projects and services.Industry-Relevant Insights\nStay informed on trends in construction\, design\, materials\, permitting\, customer expectations\, and best practices that impact the home improvement industry.Focused\, Value-Driven Environment\nThis event is designed specifically for home improvement professionals\, creating a space where conversations are relevant\, practical\, and centered on real business opportunities.Who Should Attend?\nHome improvement professionals\, including general contractors\, specialty contractors\, remodelers\, designers\, suppliers\, and others working within residential or commercial improvement services.Don't miss this opportunity to connect\, collaborate\, and grow alongside others in the home improvement industry. We look forward to seeing you there.Please Note:\nAttendance is exclusive to Members and professionals working within the home improvement industry. Registrations that do not align with this category may be refunded to the original payment method.By registering for this event\, attendees acknowledge that all registrations are non-refundable. Attendance also grants the Naperville Area Chamber of Commerce permission to use photos or video captured at the event for marketing and promotional purposes. Event details are subject to change.
X-ALT-DESC;FMTTYPE=text/html:<!DOCTYPE html><html><head><title></title></head><body aria-disabled="false"><p><meta charset="utf-8"></p><div data-message-author-role="assistant" data-message-id="9ba39453-94eb-4154-b693-e39ca08518d6" data-message-model-slug="gpt-5-mini" data-turn-start-message="true" dir="auto" tabindex="0"><p data-end="106" data-start="0">Are you ready to elevate your network and discover new opportunities within the home improvement industry?</p><p data-end="552" data-start="108">The NACC Industry Series\, hosted by the Naperville Area Chamber of Commerce\, is a premier networking experience that brings together Members from specific industries to foster collaboration\, spark innovation\, and drive business growth. Each month\, we spotlight a different industry\, offering home improvement professionals a targeted\, high-value opportunity to connect with peers who understand the demands and opportunities within the field.</p><hr fr-original-style="" style="clear: both\; user-select: none\; break-after: page\;"><p data-end="565" data-start="554"><strong fr-original-style="" style="font-weight: 700\;">Why Attend?</strong></p><p data-end="807" data-start="567"><strong data-end="591" data-start="567" fr-original-style="" style="font-weight: 700\;">Strategic Networking</strong><br data-start="591" data-end="594">Connect with fellow home improvement professionals\, including contractors\, remodelers\, builders\, designers\, suppliers\, and service providers who are focused on delivering quality work and growing their businesses.</p><p data-end="984" data-start="809"><strong data-end="842" data-start="809" fr-original-style="" style="font-weight: 700\;">Business Growth Opportunities</strong><br data-start="842" data-end="845">Build relationships that can lead to referrals\, partnerships\, subcontracting opportunities\, and new clients for your projects and services.</p><p data-end="1175" data-start="986"><strong data-end="1016" data-start="986" fr-original-style="" style="font-weight: 700\;">Industry-Relevant Insights</strong><br data-start="1016" data-end="1019">Stay informed on trends in construction\, design\, materials\, permitting\, customer expectations\, and best practices that impact the home improvement industry.</p><p data-end="1395" data-start="1177"><strong data-end="1214" data-start="1177" fr-original-style="" style="font-weight: 700\;">Focused\, Value-Driven Environment</strong><br data-start="1214" data-end="1217">This event is designed specifically for home improvement professionals\, creating a space where conversations are relevant\, practical\, and centered on real business opportunities.</p><p data-end="1611" data-start="1397"><strong fr-original-style="" style="font-weight: 700\;">Who Should Attend?<br data-start="1415" data-end="1418"></strong>Home improvement professionals\, including general contractors\, specialty contractors\, remodelers\, designers\, suppliers\, and others working within residential or commercial improvement services.</p><hr fr-original-style="" style="clear: both\; user-select: none\; break-after: page\;"><p data-end="1762" data-start="1613">Don&rsquo\;t miss this opportunity to connect\, collaborate\, and grow alongside others in the home improvement industry. We look forward to seeing you there.</p><p data-end="1976" data-start="1764"><strong fr-original-style="" style="font-weight: 700\;"><span style="color: rgb(184\, 49\, 47)\;">Please Note:<br data-start="1776" data-end="1779"></span></strong><span style="color: rgb(184\, 49\, 47)\;">Attendance is exclusive to Members and professionals working within the home improvement industry. Registrations that do not align with this category may be refunded to the original payment method.</span></p><hr fr-original-style="" style="clear: both\; user-select: none\; break-after: page\;"><p data-end="2269" data-is-last-node="" data-is-only-node="" data-start="1978"><span style="font-size: 8px\;">By registering for this event\, attendees acknowledge that all registrations are non-refundable. Attendance also grants the Naperville Area Chamber of Commerce permission to use photos or video captured at the event for marketing and promotional purposes. Event details are subject to change.</span></p></div></body></html>
LOCATION:55 S. Main Street Suite 375 Naperville IL 60540
UID:e.1532.1427660
SEQUENCE:3
DTSTAMP:20260420T205544Z
URL:https://napervilleareachamberofcommerce.growthzoneapp.com/businessafterhourseventcalendar/Details/industry-council-home-improvement-1688722?sourceTypeId=Hub
END:VEVENT
END:VCALENDAR
