BEGIN:VCALENDAR
VERSION:2.0
PRODID:-//ChamberMaster//Event Calendar 2.0//EN
METHOD:PUBLISH
X-PUBLISHED-TTL:P1H
REFRESH-INTERVAL:P1H
CALSCALE:GREGORIAN
BEGIN:VTIMEZONE
TZID:America/Chicago
BEGIN:DAYLIGHT
RRULE:FREQ=YEARLY;BYMONTH=3;BYDAY=2SU
DTSTART:20070101T000000
TZOFFSETFROM:-0600
TZOFFSETTO:-0500
TZNAME:Central Daylight Time
END:DAYLIGHT
BEGIN:STANDARD
RRULE:FREQ=YEARLY;BYMONTH=11;BYDAY=1SU
DTSTART:20070101T000000
TZOFFSETFROM:-0500
TZOFFSETTO:-0600
TZNAME:Central Standard Time
END:STANDARD
END:VTIMEZONE
BEGIN:VEVENT
DTSTART;TZID=America/Chicago:20270202T090000
DTEND;TZID=America/Chicago:20270202T230000
X-MICROSOFT-CDO-ALLDAYEVENT:FALSE
SUMMARY:Industry Council | Hospitality
DESCRIPTION:Are you ready to elevate your network and discover new opportunities within the hospitality industry?The NACC Industry Series\, hosted by the Naperville Area Chamber of Commerce\, is a premier networking experience that brings together Members from specific industries to foster collaboration\, spark innovation\, and drive business growth. Each month\, we spotlight a different industry\, offering hospitality professionals a targeted\, high-value opportunity to connect with peers who understand the fast-paced\, guest-focused nature of the industry.Why Attend?Strategic Networking\nConnect with fellow hospitality professionals\, including hotel managers\, restaurant operators\, event coordinators\, venue managers\, and service providers who are focused on delivering exceptional guest experiences.Business Growth Opportunities\nBuild relationships that can lead to partnerships\, vendor connections\, referrals\, and opportunities to collaborate on events and services.Industry-Relevant Insights\nStay informed on trends in guest experience\, operations\, staffing\, service standards\, and best practices that impact the hospitality industry.Focused\, Value-Driven Environment\nThis event is designed specifically for hospitality professionals\, creating a space where conversations are relevant\, practical\, and centered on real opportunities to enhance your business and guest experience.Who Should Attend?\nHospitality professionals\, including hotel and lodging operators\, restaurant owners and managers\, catering professionals\, event venue operators\, and others working in food service\, events\, and guest services.Don't miss this opportunity to connect\, collaborate\, and grow alongside others in the hospitality industry. We look forward to seeing you there.Please Note:\nAttendance is exclusive to Members and professionals working within the hospitality industry. Registrations that do not align with this category may be refunded to the original payment method.By registering for this event\, attendees acknowledge that all registrations are non-refundable. Attendance also grants the Naperville Area Chamber of Commerce permission to use photos or video captured at the event for marketing and promotional purposes. Event details are subject to change.
X-ALT-DESC;FMTTYPE=text/html:<!DOCTYPE html><html><head><title></title></head><body aria-disabled="false"><p><meta charset="utf-8"></p><section data-scroll-anchor="true" data-testid="conversation-turn-16" data-turn="assistant" data-turn-id="request-WEB:995042c6-ba32-4f2a-8cc5-a517d9fb9362-14" dir="auto"><div data-message-author-role="assistant" data-message-id="01e66d5f-7a6f-492a-9f10-e47c0d98c8d5" data-message-model-slug="gpt-5-mini" data-turn-start-message="true" dir="auto" tabindex="0"><p data-end="101" data-start="0">Are you ready to elevate your network and discover new opportunities within the hospitality industry?</p><p data-end="548" data-start="103">The NACC Industry Series\, hosted by the Naperville Area Chamber of Commerce\, is a premier networking experience that brings together Members from specific industries to foster collaboration\, spark innovation\, and drive business growth. Each month\, we spotlight a different industry\, offering hospitality professionals a targeted\, high-value opportunity to connect with peers who understand the fast-paced\, guest-focused nature of the industry.</p><hr fr-original-style="" style="clear: both\; user-select: none\; break-after: page\;"><p data-end="561" data-start="550"><strong fr-original-style="" style="font-weight: 700\;">Why Attend?</strong></p><p data-end="803" data-start="563"><strong data-end="587" data-start="563" fr-original-style="" style="font-weight: 700\;">Strategic Networking</strong><br data-start="587" data-end="590">Connect with fellow hospitality professionals\, including hotel managers\, restaurant operators\, event coordinators\, venue managers\, and service providers who are focused on delivering exceptional guest experiences.</p><p data-end="979" data-start="805"><strong data-end="838" data-start="805" fr-original-style="" style="font-weight: 700\;">Business Growth Opportunities</strong><br data-start="838" data-end="841">Build relationships that can lead to partnerships\, vendor connections\, referrals\, and opportunities to collaborate on events and services.</p><p data-end="1156" data-start="981"><strong data-end="1011" data-start="981" fr-original-style="" style="font-weight: 700\;">Industry-Relevant Insights</strong><br data-start="1011" data-end="1014">Stay informed on trends in guest experience\, operations\, staffing\, service standards\, and best practices that impact the hospitality industry.</p><p data-end="1408" data-start="1158"><strong data-end="1195" data-start="1158" fr-original-style="" style="font-weight: 700\;">Focused\, Value-Driven Environment</strong><br data-start="1195" data-end="1198">This event is designed specifically for hospitality professionals\, creating a space where conversations are relevant\, practical\, and centered on real opportunities to enhance your business and guest experience.</p><p data-end="1639" data-start="1410"><strong fr-original-style="" style="font-weight: 700\;">Who Should Attend?<br data-start="1428" data-end="1431"></strong>Hospitality professionals\, including hotel and lodging operators\, restaurant owners and managers\, catering professionals\, event venue operators\, and others working in food service\, events\, and guest services.</p><hr fr-original-style="" style="clear: both\; user-select: none\; break-after: page\;"><p data-end="1785" data-start="1641">Don&rsquo\;t miss this opportunity to connect\, collaborate\, and grow alongside others in the hospitality industry. We look forward to seeing you there.</p><p data-end="1994" data-start="1787"><strong fr-original-style="" style="font-weight: 700\;"><span style="color: rgb(184\, 49\, 47)\;">Please Note:<br data-start="1799" data-end="1802"></span></strong><span style="color: rgb(184\, 49\, 47)\;">Attendance is exclusive to Members and professionals working within the hospitality industry. Registrations that do not align with this category may be refunded to the original payment method.</span></p></div></section><hr fr-original-style="" style="clear: both\; user-select: none\; break-after: page\;"><section data-scroll-anchor="true" data-testid="conversation-turn-16" data-turn="assistant" data-turn-id="request-WEB:995042c6-ba32-4f2a-8cc5-a517d9fb9362-14" dir="auto"><div data-message-author-role="assistant" data-message-id="01e66d5f-7a6f-492a-9f10-e47c0d98c8d5" data-message-model-slug="gpt-5-mini" data-turn-start-message="true" dir="auto" tabindex="0"><p data-end="2287" data-is-last-node="" data-is-only-node="" data-start="1996"><span style="font-size: 8px\;">By registering for this event\, attendees acknowledge that all registrations are non-refundable. Attendance also grants the Naperville Area Chamber of Commerce permission to use photos or video captured at the event for marketing and promotional purposes. Event details are subject to change.</span></p></div></section></body></html>
LOCATION:55 S. Main Street Suite 375 Naperville IL 60540
UID:e.1532.1427689
SEQUENCE:3
DTSTAMP:20260420T205713Z
URL:https://napervilleareachamberofcommerce.growthzoneapp.com/businessafterhourseventcalendar/Details/industry-council-hospitality-1688819?sourceTypeId=Hub
END:VEVENT
END:VCALENDAR
