BEGIN:VCALENDAR
VERSION:2.0
PRODID:-//ChamberMaster//Event Calendar 2.0//EN
METHOD:PUBLISH
X-PUBLISHED-TTL:P1H
REFRESH-INTERVAL:P1H
CALSCALE:GREGORIAN
BEGIN:VTIMEZONE
TZID:America/Chicago
BEGIN:DAYLIGHT
RRULE:FREQ=YEARLY;BYMONTH=3;BYDAY=2SU
DTSTART:20070101T000000
TZOFFSETFROM:-0600
TZOFFSETTO:-0500
TZNAME:Central Daylight Time
END:DAYLIGHT
BEGIN:STANDARD
RRULE:FREQ=YEARLY;BYMONTH=11;BYDAY=1SU
DTSTART:20070101T000000
TZOFFSETFROM:-0500
TZOFFSETTO:-0600
TZNAME:Central Standard Time
END:STANDARD
END:VTIMEZONE
BEGIN:VEVENT
DTSTART;TZID=America/Chicago:20260505T090000
DTEND;TZID=America/Chicago:20260505T110000
X-MICROSOFT-CDO-ALLDAYEVENT:FALSE
SUMMARY:Industry Council | Legal Practice
DESCRIPTION:Are you ready to start building your network and exploring career opportunities as a college student?The NACC Industry Series\, hosted by the Naperville Area Chamber of Commerce\, is a premier networking experience that brings together Members and professionals from specific industries to foster collaboration\, spark innovation\, and support career and professional growth. Each month\, we spotlight a different industry\, giving college students a focused\, high-value opportunity to connect with professionals and gain real-world insight into potential career paths.Why Attend?Strategic Networking\nConnect with fellow college students who are exploring similar career paths\, sharing ideas\, and building relationships that can lead to collaboration\, mentorship\, and future professional opportunities.Career Development Opportunities\nBuild relationships that can lead to internships\, job shadowing\, referrals\, and future job opportunities as you begin or continue your career journey.Industry Insights\nLearn about current trends\, skills in demand\, and what it takes to succeed in different industries directly from those working in the field.Focused\, Professional Environment\nThis event is designed to help you engage in meaningful conversations in a setting that encourages learning\, networking\, and professional growth.Who Should Attend?\nCollege students and recent graduates who are interested in exploring career paths\, expanding their professional network\, and gaining insight into real-world industries.Don't miss this unique opportunity to connect\, collaborate\, and grow alongside fellow legal professionals. We can't wait to see you there!Please Note:\nAttendance is exclusive to professionals working within the legal industry. Registrations from those outside this category may be refunded to the original payment method.By registering for this event\, attendees acknowledge that all registrations are non-refundable. Attendance also grants the Naperville Area Chamber of Commerce permission to use photos or video captured at the event for marketing and promotional purposes. Event details are subject to change.
X-ALT-DESC;FMTTYPE=text/html:<!DOCTYPE html><html><head><title></title></head><body aria-disabled="false"><p><meta charset="utf-8"></p><section data-scroll-anchor="true" data-testid="conversation-turn-8" data-turn="assistant" data-turn-id="request-WEB:72b3d9ba-b03f-41cd-b5fb-9207c0a11603-5" dir="auto"><div data-message-author-role="assistant" data-message-id="4c3d0a9f-520f-4ff6-86f1-83bce89dafa5" data-message-model-slug="gpt-5-3" data-turn-start-message="true" dir="auto" tabindex="0"><meta charset="utf-8"><section data-scroll-anchor="true" data-testid="conversation-turn-4" data-turn="assistant" data-turn-id="request-WEB:995042c6-ba32-4f2a-8cc5-a517d9fb9362-8" dir="auto"><div data-message-author-role="assistant" data-message-id="e2cc567d-a3d4-4bac-b9c3-a344abb08b7e" data-message-model-slug="gpt-5-mini" data-turn-start-message="true" dir="auto" tabindex="0"><p data-end="101" data-start="0">Are you ready to start building your network and exploring career opportunities as a college student?</p><p data-end="567" data-start="103">The NACC Industry Series\, hosted by the Naperville Area Chamber of Commerce\, is a premier networking experience that brings together Members and professionals from specific industries to foster collaboration\, spark innovation\, and support career and professional growth. Each month\, we spotlight a different industry\, giving college students a focused\, high-value opportunity to connect with professionals and gain real-world insight into potential career paths.</p></div></section><hr fr-original-style="" style="clear: both\; user-select: none\; break-after: page\;"><section data-scroll-anchor="true" data-testid="conversation-turn-4" data-turn="assistant" data-turn-id="request-WEB:995042c6-ba32-4f2a-8cc5-a517d9fb9362-8" dir="auto"><div data-message-author-role="assistant" data-message-id="e2cc567d-a3d4-4bac-b9c3-a344abb08b7e" data-message-model-slug="gpt-5-mini" data-turn-start-message="true" dir="auto" tabindex="0"><p data-end="580" data-start="569"><strong fr-original-style="" style="font-weight: 700\;">Why Attend?</strong></p><p data-end="792" data-start="582"><strong data-end="606" data-start="582" fr-original-style="" style="font-weight: 700\;">Strategic Networking</strong><br>Connect with fellow college students who are exploring similar career paths\, sharing ideas\, and building relationships that can lead to collaboration\, mentorship\, and future professional opportunities.</p><p data-end="983" data-start="794"><strong data-end="830" data-start="794" fr-original-style="" style="font-weight: 700\;">Career Development Opportunities</strong><br data-start="830" data-end="833">Build relationships that can lead to internships\, job shadowing\, referrals\, and future job opportunities as you begin or continue your career journey.</p><p data-end="1149" data-start="985"><strong data-end="1006" data-start="985" fr-original-style="" style="font-weight: 700\;">Industry Insights</strong><br data-start="1006" data-end="1009">Learn about current trends\, skills in demand\, and what it takes to succeed in different industries directly from those working in the field.</p><p data-end="1336" data-start="1151"><strong data-end="1188" data-start="1151" fr-original-style="" style="font-weight: 700\;">Focused\, Professional Environment</strong><br data-start="1188" data-end="1191">This event is designed to help you engage in meaningful conversations in a setting that encourages learning\, networking\, and professional growth.</p><p data-end="1528" data-start="1338"><strong fr-original-style="" style="font-weight: 700\;">Who Should Attend?<br data-start="1356" data-end="1359"></strong>College students and recent graduates who are interested in exploring career paths\, expanding their professional network\, and gaining insight into real-world industries.</p><hr fr-original-style="" style="clear: both\; user-select: none\; break-after: page\;">Don&rsquo\;t miss this unique opportunity to connect\, collaborate\, and grow alongside fellow legal professionals. We can&rsquo\;t wait to see you there!</div></section><p data-end="1665" data-start="1480"><strong fr-original-style="" style="font-weight: 700\;"><span style="color: rgb(184\, 49\, 47)\;">Please Note:<br data-start="1492" data-end="1495"></span></strong><span style="color: rgb(184\, 49\, 47)\;">Attendance is exclusive to professionals working within the legal industry. Registrations from those outside this category may be refunded to the original payment method.</span></p></div></section><hr fr-original-style="" style="clear: both\; user-select: none\; break-after: page\;"><section data-scroll-anchor="true" data-testid="conversation-turn-8" data-turn="assistant" data-turn-id="request-WEB:72b3d9ba-b03f-41cd-b5fb-9207c0a11603-5" dir="auto"><div data-message-author-role="assistant" data-message-id="4c3d0a9f-520f-4ff6-86f1-83bce89dafa5" data-message-model-slug="gpt-5-3" data-turn-start-message="true" dir="auto" tabindex="0"><p data-end="1958" data-is-last-node="" data-is-only-node="" data-start="1667"><span style="font-size: 10px\;">By registering for this event\, attendees acknowledge that all registrations are non-refundable. Attendance also grants the Naperville Area Chamber of Commerce permission to use photos or video captured at the event for marketing and promotional purposes. Event details are subject to change.</span></p></div></section></body></html>
LOCATION:55 S. Main Street Suite 375 Naperville IL 60540
UID:e.1532.1335136
SEQUENCE:3
DTSTAMP:20260420T205713Z
URL:https://napervilleareachamberofcommerce.growthzoneapp.com/businessafterhourseventcalendar/Details/industry-council-legal-practice-1567356?sourceTypeId=Hub
END:VEVENT
END:VCALENDAR
