BEGIN:VCALENDAR
VERSION:2.0
PRODID:-//ChamberMaster//Event Calendar 2.0//EN
METHOD:PUBLISH
X-PUBLISHED-TTL:P1H
REFRESH-INTERVAL:P1H
CALSCALE:GREGORIAN
BEGIN:VTIMEZONE
TZID:America/Chicago
BEGIN:DAYLIGHT
RRULE:FREQ=YEARLY;BYMONTH=3;BYDAY=2SU
DTSTART:20070101T000000
TZOFFSETFROM:-0600
TZOFFSETTO:-0500
TZNAME:Central Daylight Time
END:DAYLIGHT
BEGIN:STANDARD
RRULE:FREQ=YEARLY;BYMONTH=11;BYDAY=1SU
DTSTART:20070101T000000
TZOFFSETFROM:-0500
TZOFFSETTO:-0600
TZNAME:Central Standard Time
END:STANDARD
END:VTIMEZONE
BEGIN:VEVENT
DTSTART;TZID=America/Chicago:20270105T090000
DTEND;TZID=America/Chicago:20270105T110000
X-MICROSOFT-CDO-ALLDAYEVENT:FALSE
SUMMARY:Industry Council | Mental Health and Wellness
DESCRIPTION:Are you ready to elevate your network and discover new opportunities within the mental health and wellness industry?The NACC Industry Series\, hosted by the Naperville Area Chamber of Commerce\, is a premier networking experience that brings together Members from specific industries to foster collaboration\, spark innovation\, and support business and professional growth. Each month\, we spotlight a different industry\, offering mental health and wellness professionals a targeted\, high-value opportunity to connect with peers who understand the importance of care\, service\, and community impact.Why Attend?Strategic Networking\nConnect with fellow mental health and wellness professionals\, including therapists\, counselors\, coaches\, social workers\, psychiatrists\, wellness practitioners\, and practice or clinic owners who are committed to supporting individuals and communities.Business Growth Opportunities\nBuild relationships that can lead to referrals\, collaborations\, partnerships\, and expanded access to clients seeking mental health and wellness services.Industry-Relevant Insights\nStay informed on emerging trends\, best practices\, ethical considerations\, and evolving approaches in mental health care and wellness services.Focused\, Value-Driven Environment\nThis event is designed specifically for professionals in the mental health and wellness space\, creating a supportive environment where conversations are relevant\, respectful\, and centered on meaningful connections.Who Should Attend?\nMental health and wellness professionals\, including licensed therapists\, counselors\, psychologists\, psychiatrists\, social workers\, coaches\, wellness providers\, and others working in related fields.Don't miss this opportunity to connect\, collaborate\, and grow alongside others in the mental health and wellness industry. We look forward to seeing you there.Please Note:\nAttendance is exclusive to Members and professionals working within the mental health and wellness industry. Registrations that do not align with this category may be refunded to the original payment method.By registering for this event\, attendees acknowledge that all registrations are non-refundable. Attendance also grants the Naperville Area Chamber of Commerce permission to use photos or video captured at the event for marketing and promotional purposes. Event details are subject to change.
X-ALT-DESC;FMTTYPE=text/html:<!DOCTYPE html><html><head><title></title></head><body aria-disabled="false"><p><meta charset="utf-8"></p><section data-scroll-anchor="true" data-testid="conversation-turn-14" data-turn="assistant" data-turn-id="request-WEB:995042c6-ba32-4f2a-8cc5-a517d9fb9362-13" dir="auto"><div data-message-author-role="assistant" data-message-id="2c09b522-04bf-4f58-8335-077aab18b8c0" data-message-model-slug="gpt-5-mini" data-turn-start-message="true" dir="auto" tabindex="0"><p data-end="116" data-start="0">Are you ready to elevate your network and discover new opportunities within the mental health and wellness industry?</p><p data-end="598" data-start="118">The NACC Industry Series\, hosted by the Naperville Area Chamber of Commerce\, is a premier networking experience that brings together Members from specific industries to foster collaboration\, spark innovation\, and support business and professional growth. Each month\, we spotlight a different industry\, offering mental health and wellness professionals a targeted\, high-value opportunity to connect with peers who understand the importance of care\, service\, and community impact.</p><hr fr-original-style="" style="clear: both\; user-select: none\; break-after: page\;"><p data-end="611" data-start="600"><strong fr-original-style="" style="font-weight: 700\;">Why Attend?</strong></p><p data-end="890" data-start="613"><strong data-end="637" data-start="613" fr-original-style="" style="font-weight: 700\;">Strategic Networking</strong><br data-start="637" data-end="640">Connect with fellow mental health and wellness professionals\, including therapists\, counselors\, coaches\, social workers\, psychiatrists\, wellness practitioners\, and practice or clinic owners who are committed to supporting individuals and communities.</p><p data-end="1081" data-start="892"><strong data-end="925" data-start="892" fr-original-style="" style="font-weight: 700\;">Business Growth Opportunities</strong><br data-start="925" data-end="928">Build relationships that can lead to referrals\, collaborations\, partnerships\, and expanded access to clients seeking mental health and wellness services.</p><p data-end="1258" data-start="1083"><strong data-end="1113" data-start="1083" fr-original-style="" style="font-weight: 700\;">Industry-Relevant Insights</strong><br data-start="1113" data-end="1116">Stay informed on emerging trends\, best practices\, ethical considerations\, and evolving approaches in mental health care and wellness services.</p><p data-end="1514" data-start="1260"><strong data-end="1297" data-start="1260" fr-original-style="" style="font-weight: 700\;">Focused\, Value-Driven Environment</strong><br data-start="1297" data-end="1300">This event is designed specifically for professionals in the mental health and wellness space\, creating a supportive environment where conversations are relevant\, respectful\, and centered on meaningful connections.</p><p data-end="1734" data-start="1516"><strong fr-original-style="" style="font-weight: 700\;">Who Should Attend?<br data-start="1534" data-end="1537"></strong>Mental health and wellness professionals\, including licensed therapists\, counselors\, psychologists\, psychiatrists\, social workers\, coaches\, wellness providers\, and others working in related fields.</p><hr fr-original-style="" style="clear: both\; user-select: none\; break-after: page\;"><p data-end="1895" data-start="1736">Don&rsquo\;t miss this opportunity to connect\, collaborate\, and grow alongside others in the mental health and wellness industry. We look forward to seeing you there.</p><p data-end="2119" data-start="1897"><strong fr-original-style="" style="font-weight: 700\;"><span style="color: rgb(184\, 49\, 47)\;">Please Note:<br data-start="1909" data-end="1912"></span></strong><span style="color: rgb(184\, 49\, 47)\;">Attendance is exclusive to Members and professionals working within the mental health and wellness industry. Registrations that do not align with this category may be refunded to the original payment method.</span></p></div></section><hr fr-original-style="" style="clear: both\; user-select: none\; break-after: page\;"><section data-scroll-anchor="true" data-testid="conversation-turn-14" data-turn="assistant" data-turn-id="request-WEB:995042c6-ba32-4f2a-8cc5-a517d9fb9362-13" dir="auto"><div data-message-author-role="assistant" data-message-id="2c09b522-04bf-4f58-8335-077aab18b8c0" data-message-model-slug="gpt-5-mini" data-turn-start-message="true" dir="auto" tabindex="0"><p data-end="2412" data-is-last-node="" data-is-only-node="" data-start="2121"><span style="font-size: 8px\;">By registering for this event\, attendees acknowledge that all registrations are non-refundable. Attendance also grants the Naperville Area Chamber of Commerce permission to use photos or video captured at the event for marketing and promotional purposes. Event details are subject to change.</span></p></div></section></body></html>
LOCATION:55 S. Main Street Suite 375 Naperville IL 60540
UID:e.1532.1427679
SEQUENCE:3
DTSTAMP:20260420T210046Z
URL:https://napervilleareachamberofcommerce.growthzoneapp.com/businessafterhourseventcalendar/Details/industry-council-mental-health-and-wellness-1688809?sourceTypeId=Hub
END:VEVENT
END:VCALENDAR
