BEGIN:VCALENDAR
VERSION:2.0
PRODID:-//ChamberMaster//Event Calendar 2.0//EN
METHOD:PUBLISH
X-PUBLISHED-TTL:P1H
REFRESH-INTERVAL:P1H
CALSCALE:GREGORIAN
BEGIN:VTIMEZONE
TZID:America/Chicago
BEGIN:DAYLIGHT
RRULE:FREQ=YEARLY;BYMONTH=3;BYDAY=2SU
DTSTART:20070101T000000
TZOFFSETFROM:-0600
TZOFFSETTO:-0500
TZNAME:Central Daylight Time
END:DAYLIGHT
BEGIN:STANDARD
RRULE:FREQ=YEARLY;BYMONTH=11;BYDAY=1SU
DTSTART:20070101T000000
TZOFFSETFROM:-0500
TZOFFSETTO:-0600
TZNAME:Central Standard Time
END:STANDARD
END:VTIMEZONE
BEGIN:VEVENT
DTSTART;TZID=America/Chicago:20260602T090000
DTEND;TZID=America/Chicago:20260602T110000
X-MICROSOFT-CDO-ALLDAYEVENT:FALSE
SUMMARY:Industry Council | Small Business Owners
DESCRIPTION:Are you ready to elevate your network and discover new opportunities as a small business owner?The NACC Industry Series\, hosted by the Naperville Area Chamber of Commerce\, is a premier networking experience that brings together Members from specific industries to foster collaboration\, spark innovation\, and drive business growth. Each month\, we spotlight a different industry\, offering small business owners a targeted\, high-value opportunity to connect with peers who understand the challenges and opportunities of running and growing a business.Why Attend?Strategic Networking\nConnect with fellow small business owners\, entrepreneurs\, and professionals across a variety of industries who are focused on growth\, visibility\, and building meaningful relationships.Business Growth Opportunities\nDevelop relationships that can lead to referrals\, partnerships\, collaborations\, and new customers for your business.Practical\, Industry-Relevant Insights\nGain exposure to trends\, strategies\, and shared experiences that can help you navigate challenges\, adapt to market changes\, and strengthen your business operations.Focused\, Value-Driven Environment\nThis event is designed with small business owners in mind\, creating a setting where conversations are relevant\, intentional\, and centered around mutual success.Who Should Attend?\nSmall business owners\, entrepreneurs\, freelancers\, consultants\, and professionals who are looking to expand their network\, build strategic relationships\, and grow within a supportive business community.Don't miss this opportunity to connect\, collaborate\, and grow alongside other small business owners. We look forward to seeing you there.Please Note:\nAttendance is exclusive to Members and professionals who align with the small business community. Registrations that do not meet this criteria may be refunded to the original payment method.By registering for this event\, attendees acknowledge that all registrations are non-refundable. Attendance also grants the Naperville Area Chamber of Commerce permission to use photos or video captured at the event for marketing and promotional purposes. Event details are subject to change.
X-ALT-DESC;FMTTYPE=text/html:<!DOCTYPE html><html><head><title></title></head><body aria-disabled="false"><p><meta charset="utf-8"></p><section data-scroll-anchor="true" data-testid="conversation-turn-2" data-turn="assistant" data-turn-id="request-WEB:995042c6-ba32-4f2a-8cc5-a517d9fb9362-7" dir="auto"><div data-message-author-role="assistant" data-message-id="e719f48c-cdbe-418e-9a66-6481929c9a52" data-message-model-slug="gpt-5-mini" data-turn-start-message="true" dir="auto" tabindex="0"><p data-end="95" data-start="0">Are you ready to elevate your network and discover new opportunities as a small business owner?</p><p data-end="552" data-start="97">The NACC Industry Series\, hosted by the Naperville Area Chamber of Commerce\, is a premier networking experience that brings together Members from specific industries to foster collaboration\, spark innovation\, and drive business growth. Each month\, we spotlight a different industry\, offering small business owners a targeted\, high-value opportunity to connect with peers who understand the challenges and opportunities of running and growing a business.</p><hr fr-original-style="" style="clear: both\; user-select: none\; break-after: page\;"><p data-end="565" data-start="554"><strong fr-original-style="" style="font-weight: 700\;">Why Attend?</strong></p><p data-end="778" data-start="567"><strong data-end="591" data-start="567" fr-original-style="" style="font-weight: 700\;">Strategic Networking</strong><br data-start="591" data-end="594">Connect with fellow small business owners\, entrepreneurs\, and professionals across a variety of industries who are focused on growth\, visibility\, and building meaningful relationships.</p><p data-end="932" data-start="780"><strong data-end="813" data-start="780" fr-original-style="" style="font-weight: 700\;">Business Growth Opportunities</strong><br data-start="813" data-end="816">Develop relationships that can lead to referrals\, partnerships\, collaborations\, and new customers for your business.</p><p data-end="1142" data-start="934"><strong data-end="975" data-start="934" fr-original-style="" style="font-weight: 700\;">Practical\, Industry-Relevant Insights</strong><br data-start="975" data-end="978">Gain exposure to trends\, strategies\, and shared experiences that can help you navigate challenges\, adapt to market changes\, and strengthen your business operations.</p><p data-end="1344" data-start="1144"><strong data-end="1181" data-start="1144" fr-original-style="" style="font-weight: 700\;">Focused\, Value-Driven Environment</strong><br data-start="1181" data-end="1184">This event is designed with small business owners in mind\, creating a setting where conversations are relevant\, intentional\, and centered around mutual success.</p><p data-end="1569" data-start="1346"><strong fr-original-style="" style="font-weight: 700\;">Who Should Attend?<br data-start="1364" data-end="1367"></strong>Small business owners\, entrepreneurs\, freelancers\, consultants\, and professionals who are looking to expand their network\, build strategic relationships\, and grow within a supportive business community.</p><hr fr-original-style="" style="clear: both\; user-select: none\; break-after: page\;"><p data-end="1708" data-start="1571">Don&rsquo\;t miss this opportunity to connect\, collaborate\, and grow alongside other small business owners. We look forward to seeing you there.</p><p data-end="1915" data-start="1710"><span style="color: rgb(184\, 49\, 47)\;"><strong fr-original-style="" style="font-weight: 700\;">Please Note:<br data-start="1722" data-end="1725"></strong>Attendance is exclusive to Members and professionals who align with the small business community. Registrations that do not meet this criteria may be refunded to the original payment method.</span></p><hr fr-original-style="" style="clear: both\; user-select: none\; break-after: page\;"><p data-end="2208" data-is-last-node="" data-is-only-node="" data-start="1917"><span style="font-size: 8px\;">By registering for this event\, attendees acknowledge that all registrations are non-refundable. Attendance also grants the Naperville Area Chamber of Commerce permission to use photos or video captured at the event for marketing and promotional purposes. Event details are subject to change.</span></p></div></section></body></html>
LOCATION:55 S. Main Street Suite 375 Naperville IL 60540
UID:e.1532.1335142
SEQUENCE:3
DTSTAMP:20260420T205830Z
URL:https://napervilleareachamberofcommerce.growthzoneapp.com/businessafterhourseventcalendar/Details/industry-council-small-business-owners-1567362?sourceTypeId=Hub
END:VEVENT
END:VCALENDAR
