BEGIN:VCALENDAR
VERSION:2.0
PRODID:-//ChamberMaster//Event Calendar 2.0//EN
METHOD:PUBLISH
X-PUBLISHED-TTL:P1H
REFRESH-INTERVAL:P1H
CALSCALE:GREGORIAN
BEGIN:VTIMEZONE
TZID:America/Chicago
BEGIN:DAYLIGHT
RRULE:FREQ=YEARLY;BYMONTH=3;BYDAY=2SU
DTSTART:20070101T000000
TZOFFSETFROM:-0600
TZOFFSETTO:-0500
TZNAME:Central Daylight Time
END:DAYLIGHT
BEGIN:STANDARD
RRULE:FREQ=YEARLY;BYMONTH=11;BYDAY=1SU
DTSTART:20070101T000000
TZOFFSETFROM:-0500
TZOFFSETTO:-0600
TZNAME:Central Standard Time
END:STANDARD
END:VTIMEZONE
BEGIN:VEVENT
DTSTART;TZID=America/Chicago:20261201T090000
DTEND;TZID=America/Chicago:20261201T110000
X-MICROSOFT-CDO-ALLDAYEVENT:FALSE
SUMMARY:Industry Council | Solopreneur
DESCRIPTION:Are you ready to elevate your network and discover new opportunities as a solopreneur?Look no further than the NACC Industry Series   a quarterly event created to empower professionals just like you!The NACC Industry Series is a premier networking experience that brings together professionals from a specific sector to foster collaboration\, spark innovation\, and drive professional growth. Each quarter\, we spotlight a different industry offering attendees a targeted\, high-value opportunity to connect and thrive.Why Attend?Strategic Networking\nEngage with fellow solopreneurs\, including freelancers\, consultants\, creatives\, coaches\, and independent business owners across a variety of industries.Professional Growth Opportunities\nMake meaningful connections that lead to partnerships\, referrals\, collaborations\, and new opportunities to grow and scale your business.Industry-Relevant Insights\nStay informed on emerging trends\, tools\, and strategies that support solopreneurs\, from marketing and client acquisition to operations and financial management.Exclusive Access\nThis event is tailored specifically for solopreneurs\, ensuring a focused\, relevant\, and valuable experience with others who understand the unique challenges and opportunities of running a business independently.Who Should Attend?\nIndependent professionals across all industries\, including freelancers\, consultants\, creatives\, coaches\, and small business owners who operate as a team of one.Don't miss this unique opportunity to connect\, collaborate\, and grow alongside fellow solopreneurs. We can't wait to see you there!Please Note:\nAttendance is exclusive to solopreneurs. Registrations from those outside this category may be refunded to the original payment method.By registering for this event\, attendees acknowledge that all registrations are non-refundable. Attendance also grants the Naperville Area Chamber of Commerce permission to use photos or video captured at the event for marketing and promotional purposes. Event details are subject to change.
X-ALT-DESC;FMTTYPE=text/html:<!DOCTYPE html><html><head><title></title></head><body aria-disabled="false"><section data-scroll-anchor="true" data-testid="conversation-turn-2" data-turn="assistant" data-turn-id="request-WEB:72b3d9ba-b03f-41cd-b5fb-9207c0a11603-0" dir="auto"><div data-message-author-role="assistant" data-message-id="ae5f87a6-2d42-482a-ac9d-684b6ab0f80a" data-message-model-slug="gpt-5-3" data-turn-start-message="true" dir="auto" tabindex="0"><p data-end="86" data-start="0">Are you ready to elevate your network and discover new opportunities as a solopreneur?</p><p data-end="201" data-start="88">Look no further than the NACC Industry Series &ndash\; a quarterly event created to empower professionals just like you!</p><p data-end="519" data-start="203">The NACC Industry Series is a premier networking experience that brings together professionals from a specific sector to foster collaboration\, spark innovation\, and drive professional growth. Each quarter\, we spotlight a different industry&mdash\;offering attendees a targeted\, high-value opportunity to connect and thrive.</p><hr fr-original-style="" style="clear: both\; user-select: none\; break-after: page\;"><p data-end="584" data-start="569"><strong data-end="584" data-start="569" fr-original-style="" style="font-weight: 700\;">Why Attend?</strong></p><p data-end="765" data-start="586"><strong data-end="610" data-start="586" fr-original-style="" style="font-weight: 700\;">Strategic Networking</strong><br data-start="610" data-end="613">Engage with fellow solopreneurs\, including freelancers\, consultants\, creatives\, coaches\, and independent business owners across a variety of industries.</p><p data-end="943" data-start="767"><strong data-end="804" data-start="767" fr-original-style="" style="font-weight: 700\;">Professional Growth Opportunities</strong><br data-start="804" data-end="807">Make meaningful connections that lead to partnerships\, referrals\, collaborations\, and new opportunities to grow and scale your business.</p><p data-end="1137" data-start="945"><strong data-end="975" data-start="945" fr-original-style="" style="font-weight: 700\;">Industry-Relevant Insights</strong><br data-start="975" data-end="978">Stay informed on emerging trends\, tools\, and strategies that support solopreneurs\, from marketing and client acquisition to operations and financial management.</p><p data-end="1373" data-start="1139"><strong data-end="1159" data-start="1139" fr-original-style="" style="font-weight: 700\;">Exclusive Access</strong><br data-start="1159" data-end="1162">This event is tailored specifically for solopreneurs\, ensuring a focused\, relevant\, and valuable experience with others who understand the unique challenges and opportunities of running a business independently.</p><hr fr-original-style="" style="clear: both\; user-select: none\; break-after: page\;"><p data-end="1561" data-start="1375"><strong data-end="1397" data-start="1375" fr-original-style="" style="font-weight: 700\;">Who Should Attend?</strong><br data-start="1397" data-end="1400">Independent professionals across all industries\, including freelancers\, consultants\, creatives\, coaches\, and small business owners who operate as a team of one.</p><p data-end="1694" data-start="1563">Don&rsquo\;t miss this unique opportunity to connect\, collaborate\, and grow alongside fellow solopreneurs. We can&rsquo\;t wait to see you there!</p><hr fr-original-style="" style="clear: both\; user-select: none\; break-after: page\;"><p data-end="1850" data-is-last-node="" data-is-only-node="" data-start="1696"><strong data-end="1712" data-start="1696" fr-original-style="" style="font-weight: 700\;"><span style="color: rgb(184\, 49\, 47)\;">Please Note:</span></strong><span style="color: rgb(184\, 49\, 47)\;"><br data-start="1712" data-end="1715">Attendance is exclusive to solopreneurs. Registrations from those outside this category may be refunded to the original payment method.</span></p></div></section><hr fr-original-style="" style="clear: both\; user-select: none\; break-after: page\;"><p dir="ltr" style='box-sizing: border-box\; margin: 0pt 0px\; font-size: 16px\; line-height: 1.2\; font-family: "Gotham Light"\, sans-serif\; font-style: normal\; -webkit-font-smoothing: antialiased\;'><span style="color: rgba(0\,0\,0\,var(--O42jJQ\,1))\; caret-color: rgb(0\, 0\, 0)\; --Ys-XuQ: none\; font-weight: 400\; font-style: normal\; font-kerning: normal\; font-size: 8px\;">By registering for this event\, attendees acknowledge that all registrations are non-refundable. Attendance also grants the Naperville Area Chamber of Commerce permission to use photos or video captured at the event for marketing and promotional purposes. Event details are subject to change.</span></p></body></html>
LOCATION:55 S. Main Street Suite 375 Naperville IL 60540
UID:e.1532.1427670
SEQUENCE:3
DTSTAMP:20260420T205517Z
URL:https://napervilleareachamberofcommerce.growthzoneapp.com/businessafterhourseventcalendar/Details/industry-council-solopreneur-1688766?sourceTypeId=Hub
END:VEVENT
END:VCALENDAR
