BEGIN:VCALENDAR
VERSION:2.0
PRODID:-//ChamberMaster//Event Calendar 2.0//EN
METHOD:PUBLISH
X-PUBLISHED-TTL:P1H
REFRESH-INTERVAL:P1H
CALSCALE:GREGORIAN
BEGIN:VTIMEZONE
TZID:America/Chicago
BEGIN:DAYLIGHT
RRULE:FREQ=YEARLY;BYMONTH=3;BYDAY=2SU
DTSTART:20070101T000000
TZOFFSETFROM:-0600
TZOFFSETTO:-0500
TZNAME:Central Daylight Time
END:DAYLIGHT
BEGIN:STANDARD
RRULE:FREQ=YEARLY;BYMONTH=11;BYDAY=1SU
DTSTART:20070101T000000
TZOFFSETFROM:-0500
TZOFFSETTO:-0600
TZNAME:Central Standard Time
END:STANDARD
END:VTIMEZONE
BEGIN:VEVENT
DTSTART;TZID=America/Chicago:20260411T130000
DTEND;TZID=America/Chicago:20260411T163000
X-MICROSOFT-CDO-ALLDAYEVENT:FALSE
SUMMARY:Overstreet Builders - Muddy Boots Tour
DESCRIPTION:Join us for another favorite event.. \n\nMuddy Boots Tour! Tour this modern Americana floor plan\, truly customized for family living. \n\nWhen: Saturday April 11th from 1:00PM to 4:30PM \nWhere: 3935 Caliente Circle\, Naperville\, IL \n\nThis tour will showcase this customized Americana you'll walk through the home just after counters are installed\, the perfect stage to envision its full potential. \nFeatured highlights of this home are: \nA dramatic two-story great room with a striking fireplace as the center piece. \nFloor-to-ceiling windows in the two-story family room offering sweeping views of mature trees. \nTwo staircases for seamless flow \nFinished Rooms in Basement providing extra space for endless possibilities. \n\nWhether you're exploring ideas for your future custom home or simply curious about the building process\, this tour is a chance to see firsthand how we can tailor a floor plan to perfectly fit your lifestyle. 👢 Don't miss it! bring your curiosity (and your boots!) and come see what's possible. \n\nCall 630-226-0460 for details
X-ALT-DESC;FMTTYPE=text/html:<!DOCTYPE html><html><head><title></title></head><body aria-disabled="false"><p>Join us for another favorite event.. <br><br>Muddy Boots Tour! Tour this modern Americana floor plan\, truly customized for family living. <br><strong fr-original-style="" style="font-weight: 700\;"><br>When:&nbsp\;</strong>Saturday April 11th from 1:00PM to 4:30PM <br><strong fr-original-style="" style="font-weight: 700\;">Where:&nbsp\;</strong>3935 Caliente Circle\, Naperville\, IL <br><br>This tour will showcase this customized Americana you&rsquo\;ll walk through the home just after counters are installed\, the perfect stage to envision its full potential.</p><p>&nbsp\;<br><strong fr-original-style="" style="font-weight: 700\;">Featured highlights of this home are:</strong> <br>A dramatic two-story great room with a striking fireplace as the center piece. <br>Floor-to-ceiling windows in the two-story family room offering sweeping views of mature trees. <br>Two staircases for seamless flow <br>Finished Rooms in Basement providing extra space for endless possibilities. <br><br>Whether you&rsquo\;re exploring ideas for your future custom home or simply curious about the building process\, this tour is a chance to see firsthand how we can tailor a floor plan to perfectly fit your lifestyle. 👢 Don&rsquo\;t miss it! bring your curiosity (and your boots!) and come see what&rsquo\;s possible. <br><br>Call 630-226-0460 for details</p></body></html>
LOCATION:NAPERVILLE IL 60564
UID:e.1532.1427131
SEQUENCE:3
DTSTAMP:20260420T205829Z
URL:https://napervilleareachamberofcommerce.growthzoneapp.com/businessafterhourseventcalendar/Details/overstreet-builders-muddy-boots-tour-1687859?sourceTypeId=Hub
END:VEVENT
END:VCALENDAR
